BEGIN:VCALENDAR
VERSION:2.0
PRODID:-//Royal Coach tours &amp; Cruises - ECPv6.15.20//NONSGML v1.0//EN
CALSCALE:GREGORIAN
METHOD:PUBLISH
X-WR-CALNAME:Royal Coach tours &amp; Cruises
X-ORIGINAL-URL:https://royalcoachtours.com
X-WR-CALDESC:Events for Royal Coach tours &amp; Cruises
REFRESH-INTERVAL;VALUE=DURATION:PT1H
X-Robots-Tag:noindex
X-PUBLISHED-TTL:PT1H
BEGIN:VTIMEZONE
TZID:UTC
BEGIN:STANDARD
TZOFFSETFROM:+0000
TZOFFSETTO:+0000
TZNAME:UTC
DTSTART:20250101T000000
END:STANDARD
END:VTIMEZONE
BEGIN:VEVENT
DTSTART;VALUE=DATE:20260418
DTEND;VALUE=DATE:20260427
DTSTAMP:20260423T123232
CREATED:20251020T070621Z
LAST-MODIFIED:20251020T070621Z
UID:1441-1776470400-1777247999@royalcoachtours.com
SUMMARY:APRIL 18-26\, 2026 ”SPLENDID SCOTLAND”
DESCRIPTION:SAVE $100/pp IF BOOKED BY 8/31/25 THIS 9-DAY ESCORTED TOUR WITH AIRFARE & LIMO FROM YOUR DOOR TO THE ORLANDO AIRPORT with 10 Meals\, Round trip flights\, all airport to hotel transfers. Begin in Glasgow\, enjoy the Highlands\, Boat ride on Loch Katrine\, Whisky tasting at a local distillery\, stunning views over Loch Ness from Urquhart Castle visit and more\, ending in Edinburgh. Ask us for a detailed Color Brochure with complete itinerary and tour application. $5719/pp/dbl. occ.
URL:https://royalcoachtours.com/occasion/april-18-26-2026-splendid-scotland/
CATEGORIES:OVERNIGHT TOURS
END:VEVENT
BEGIN:VEVENT
DTSTART;VALUE=DATE:20260427
DTEND;VALUE=DATE:20260428
DTSTAMP:20260423T123232
CREATED:20260401T003149Z
LAST-MODIFIED:20260401T021828Z
UID:1639-1777248000-1777334399@royalcoachtours.com
SUMMARY:APR. 27TH MON. ★ “EAGLEMANIA – Eagles Tribute Band” - ALHAMBRA & Dinner
DESCRIPTION:APR. 27TH MON. ★ “EAGLEMANIA – Eagles Tribute Band” – ALHAMBRA & Dinner- $149 \nThe Worlds Greatest Eagles Tribute Band comes to the Alhambra and we’ve got seats! Don’t delay as this will sell fast. Hear all their great songs LIVE such as Take It Easy\, Hotel California\, Lyin’ Eyes\, One of These Nights\, Desperado and many more! This is a SPECIAL EVENT at the Alhambra\, with a truly incredible tribute group and is an Evening Performance with Dinner! That isn’t their slogan by mistake! EagleMania has dedicated themselves to faithfully reproducing the music of The Eagles. Since their inception\, EagleMania has been thrilling audiences all over the country with their stunning five-part harmony and their uncanny ability to emulate the unmistakable sound of The Eagles. Their show consists of the Eagles’ greatest hits\, as well as some of the solo work of Don Henley\, Glenn Frey\, and Joe Walsh. EagleMania has spent countless hours breaking down everything The Eagles recorded on their albums and faithfully reproducing those unforgettable songs in the most authentic way possible. The audience is given a chance to experience the music the way it was meant to be heard and it’s done live on-stage night after night.
URL:https://royalcoachtours.com/occasion/apr-27th-mon-%e2%98%85-eaglemania-eagles-tribute-band-alhambra-dinner/
CATEGORIES:DAY TRIPS
END:VEVENT
BEGIN:VEVENT
DTSTART;VALUE=DATE:20260502
DTEND;VALUE=DATE:20260503
DTSTAMP:20260423T123232
CREATED:20260401T004304Z
LAST-MODIFIED:20260401T021731Z
UID:1644-1777680000-1777766399@royalcoachtours.com
SUMMARY:MAY 2ND SAT. ★ ISLE OF EIGHT FLAGS 61ST SHRIMP FESTIVAL– Fernandina Beach
DESCRIPTION:MAY 2ND SAT. ★ ISLE OF EIGHT FLAGS 61ST SHRIMP FESTIVAL– Fernandina Beach  $66  \nSAT. ★ ★ $66 “Ahoy Shrimp Lovers! As people from Northeast Florida and Southeast Georgia come to Amelia Island for the Isle of Eight Flags Shrimp Festival this weekend\, they know one thing: There will be plenty of shrimp to eat. Rated by “Sunshine Artist Magazine” in the Top 100 of North America’s best events. This street festival features fine art and crafts\, creative crafts\, antiques\, varied food vendors\, open air Live Entertainment and Special events. Enjoy the Best Dressed Pirates Contest\, from tiny toddlers to fun-loving adults\, Shrimp Eating Contest\, Best Beard Contest and Best Decorated Shrimp Boat! For a truly unique experience at the 61st Isle of Eight Flags Shrimp Festival come aboard the Lady Jane! Take a FREE tour of a real\, working shrimp boat and get an insider’s look into the heart of the local shrimping industry. Bus arrives at 10:45am and departs at 4pm giving you the right amount of time to enjoy Shrimp & this wonderfully fun festival.
URL:https://royalcoachtours.com/occasion/may-2nd-sat-%e2%98%85-isle-of-eight-flags-61st-shrimp-festival-fernandina-beach/
CATEGORIES:DAY TRIPS
END:VEVENT
BEGIN:VEVENT
DTSTART;VALUE=DATE:20260507
DTEND;VALUE=DATE:20260508
DTSTAMP:20260423T123232
CREATED:20260401T005107Z
LAST-MODIFIED:20260401T021903Z
UID:1647-1778112000-1778198399@royalcoachtours.com
SUMMARY:MAY 7TH THU. ★ MARCY’A BIRTHDAY\, MUSICAL BINGO & SCENIC BOAT LUNCH CRUISE
DESCRIPTION:MAY 7TH THU. ★ MARCY’A BIRTHDAY\, MUSICAL BINGO & SCENIC BOAT LUNCH CRUISE $110 \nCOME CELEBRATE MY BIRTHDAY\, AND WE’LL HAVE A REAL PARTY TIME! ALSO A BRAND NEW EXCITING FUN EVENT on the Barbara Lee Paddlewheel Riverboat out of Sanford. Join us aboard the Barbara Lee for a lively and interactive Musical Bingo Cruise! Test your musical knowledge\, compete for fantastic prizes\, and enjoy a unique\, music-filled experience on the St. Johns River. \n🎵 Receive a bingo card with song titles instead of numbers (add cards $3)\n🎵 Listen as the host plays music clips\n🎵 Mark off the songs you hear on your card\n🎵 Be the first to complete the pattern to win a Prize! \nCome Celebrate Marcya’s Birthday and toast to the Hostess with the Mostest! WE’LL EAT CAKE TOO as we sail aboard The Rivership Barbara-Lee\, an authentic sternwheeler paddleboat. The steel hull is propelled by two paddlewheels at the rear of the vessel. The ornate wrought iron railings and wooden wheels recall the elegance of the steamers that once plied the St. Johns River from Jacksonville in the late 1800’s. Drift along the beautiful St. Johns River\, enjoy scenic views and an exciting twist on bingo featuring music from your favorite bands\, complete with videos and lively entertainment. Guests are treated to a full lunch with table service\, featuring a choice of seven delicious entrées and reserved seating for your comfort. A full cash bar is available throughout the cruise\, and there are fun prizes to be won during the musical bingo games. One Complimentary Card\, and additional cards $3 each. This unforgettable daytime outing combines great food\, beautiful views\, and musical fun into one memorable experience.
URL:https://royalcoachtours.com/occasion/may-7th-thu-%e2%98%85-marcya-birthday-musical-bingo-scenic-boat-lunch-cruise/
CATEGORIES:DAY TRIPS
END:VEVENT
BEGIN:VEVENT
DTSTART;VALUE=DATE:20260514
DTEND;VALUE=DATE:20260515
DTSTAMP:20260423T123232
CREATED:20251020T062026Z
LAST-MODIFIED:20251020T062026Z
UID:1397-1778716800-1778803199@royalcoachtours.com
SUMMARY:MAY 14TH THU. ★  “1776 THE MUSICAL” - ALHAMBRA & Lunch
DESCRIPTION:MAY 14TH THU. ★  “1776 THE MUSICAL” – ALHAMBRA & Lunch – $113 \nBefore Hamilton\, there was the historical musical “1776” – a Broadway darling\, Director Peter Hunt adapted a brilliantly bold\, and highly entertaining film in 1972. Just in time for our country’s 250th Anniversary this story about follows the founding fathers as they struggle to craft the Declaration of Independence\, showing the human side of the men behind the icons; Adams\, Franklin and Jefferson. Praised for its clever writing\, humor\, and dramatic tension.
URL:https://royalcoachtours.com/occasion/may-14th-thu-%e2%98%85-1776-the-musical-alhambra-lunch/
CATEGORIES:DAY TRIPS
END:VEVENT
BEGIN:VEVENT
DTSTART;VALUE=DATE:20260606
DTEND;VALUE=DATE:20260607
DTSTAMP:20260423T123232
CREATED:20251020T062506Z
LAST-MODIFIED:20251020T062506Z
UID:1404-1780704000-1780790399@royalcoachtours.com
SUMMARY:JUN. 6TH SAT. ★ “SIX” NEW BROADWAY MUSICAL” Dr. Phillips Ctr. Orlando
DESCRIPTION:JUN. 6TH SAT. ★ “SIX” NEW BROADWAY MUSICAL” Dr. Phillips Ctr. Orlando-$186 \n2pm Matinee WINNER OF 26 AWARDS including TONY AWARD FOR BEST MUSICAL SCORE. SIX: Divorced\, beheaded\, died\, divorced\, beheaded\, survived. From Tudor Queens to Pop Icons\, the SIX wives of Henry VIII take the microphone to reclaim their identities out of the shadow of their infamous spouse – remixing five hundred years of historical heartbreak into a Euphoric Celebration of 21st century girl power! This new original musical is the global sensation that everyone is losing their head over! The show is known for its energetic\, feminist themes\, modern musical style\, and vibrant costumes. A stop will be made prior for Lunch on your own. Don’t miss it! Deposit of $100 holds your great Mezzanine seat.
URL:https://royalcoachtours.com/occasion/jun-6th-sat-%e2%98%85-six-new-broadway-musical-dr-phillips-ctr-orlando/
CATEGORIES:DAY TRIPS
END:VEVENT
BEGIN:VEVENT
DTSTART;VALUE=DATE:20260617
DTEND;VALUE=DATE:20260622
DTSTAMP:20260423T123232
CREATED:20251021T015633Z
LAST-MODIFIED:20251021T015633Z
UID:1445-1781654400-1782086399@royalcoachtours.com
SUMMARY:JUN. 17-21\, 2026 ”SAIL 250 – VIRGINIA & AMERICA’S 250TH ANNIVERSARY”
DESCRIPTION:” SAVE $50/pp IF BOOKED BY 8/31/25 – THIS 5-DAY ESCORTED TOUR features Tall Ships\, Military Vessels and The Parade of Sail. With AIRFARE TO NORFOLK & LIMO FROM YOUR DOOR TO THE ORLANDO AIRPORT with 8 Meals\, all airport to hotel transfers\, and all 4-nts in same hotel. Enjoy the Norfolk Botanical Gardens\, See the General Douglas MacArthur Memorial\, Sail aboard the Hampton Queen for a narrated harbor cruise highlighted by over 20 points of interest and over 400 years of history! You will also visit the Virginia Air and Space Center featuring over 30 historic aircraft and the Apollo 12 Command Module\, as well as tour the Battleship Wisconsin. Ask us for a detailed Color Brochure with complete itinerary and tour application. $3009/pp/dbl.
URL:https://royalcoachtours.com/occasion/jun-17-21-2026-sail-250-virginia-americas-250th-anniversary/
CATEGORIES:OVERNIGHT TOURS
END:VEVENT
BEGIN:VEVENT
DTSTART;VALUE=DATE:20260618
DTEND;VALUE=DATE:20260619
DTSTAMP:20260423T123232
CREATED:20251020T062726Z
LAST-MODIFIED:20251020T062726Z
UID:1407-1781740800-1781827199@royalcoachtours.com
SUMMARY:JUN. 18TH THU. ★ “SHREK THE MUSICAL” - ALHAMBRA & Lunch
DESCRIPTION:JUN. 18TH THU. ★ “SHREK THE MUSICAL” – ALHAMBRA & Lunch – $113 \nThe greatest fairy tale never told comes to life in this colorful\, song-filled\, Tony Awardwinning Broadway production based on the hit movie. Shrek the Musical\, is the story of a solitary green ogre who wants his swamp back after Lord Farquaad evicts fairy tale creatures to it. Shrek makes a deal with Farquaad to rescue Princess Fiona from a dragon in exchange for his swamp\, but his adventure with Donkey and Fiona teaches him about friendship\, acceptance\, and finding happiness with others. You will love this show. Don’t miss it!
URL:https://royalcoachtours.com/occasion/jun-18th-thu-%e2%98%85-shrek-the-musical-alhambra-lunch/
CATEGORIES:DAY TRIPS
END:VEVENT
BEGIN:VEVENT
DTSTART;VALUE=DATE:20260704
DTEND;VALUE=DATE:20260705
DTSTAMP:20260423T123232
CREATED:20251020T062936Z
LAST-MODIFIED:20251020T062936Z
UID:1410-1783123200-1783209599@royalcoachtours.com
SUMMARY:JULY 4TH SAT. ★ “1776” Titusville & Lunch at Dixie Crossroads
DESCRIPTION:JULY 4TH SAT. ★ “1776” Titusville & Lunch at Dixie Crossroads – $124 \nWitness the pivotal moment in American history like never before and on July 4th as we celebrate the 250th Anniversary of America! Thomas Jefferson writes and delivers the 1st Declaration of Independence breaks free of British rule. This show offers a delightful blend of humor\, insight and drama\, complemented by a striking musical score that makes this story memorable and a true celebration of our history and liberty!
URL:https://royalcoachtours.com/occasion/july-4th-sat-%e2%98%85-1776-titusville-lunch-at-dixie-crossroads/
CATEGORIES:DAY TRIPS
END:VEVENT
BEGIN:VEVENT
DTSTART;VALUE=DATE:20260717
DTEND;VALUE=DATE:20260726
DTSTAMP:20260423T123232
CREATED:20251021T015838Z
LAST-MODIFIED:20251021T042856Z
UID:1448-1784246400-1785023999@royalcoachtours.com
SUMMARY:JULY 17-25\, 2026 ”NOVA SCOTIA AND CANADA’S MARITIMES” SAVE $100/pp if BOOKED BY 8/31/25– THIS 9-DAY ESCORTED TOUR features PRINCE EDWARD ISLAND
DESCRIPTION:Visit Lunenburg\, The Scenic Cabot Trail\, The Home of Anne of Green Gables\, Peggy’s Cove\, Travel the nine-mile-long Confederation Bridge across Northumberland Strait and experience two narrated cruises on this tour. With airfare to Halifax r/t and Limo to Orlando Airport and back\, with 14 Meals\, all airport to hotel transfers\, and all hotels. Ask us for a detailed Color Brochure with complete itinerary and tour application. $4959/pp/dbl. occ.
URL:https://royalcoachtours.com/occasion/july-17-25-2026-nova-scotia-and-canadas-maritimes/
CATEGORIES:OVERNIGHT TOURS
END:VEVENT
BEGIN:VEVENT
DTSTART;VALUE=DATE:20260805
DTEND;VALUE=DATE:20260818
DTSTAMP:20260423T123232
CREATED:20251021T020048Z
LAST-MODIFIED:20251021T020048Z
UID:1451-1785888000-1787011199@royalcoachtours.com
SUMMARY:AUGUST 5-17\, 2026 ”SOUTH AFRICA & SAFARI ADVENTURE”
DESCRIPTION:SAVE $100/pp IF BOOKED BY 8/31/25 – THIS 13-DAY ESCORTED TOUR features Victoria Falls\, Chobe National Park\, Stellenbosh Wine Country & Cape Town. Visit three African countries\, Botswana\, imbabwe and South Africa. Experience game-viewing drives on a private reserve and in Chobe National Park\, get up close to elephants at a local sanctuary\, enjoy a relaxing cruise on the Chobe River and more. With airfare to JOHANNESBURG and return from CAPETOWN\, SOUTH AFRICA\, Limo from your door to Orlando airport and back\, with 23 Meals\, all airport to hotel transfers\, and all hotels and lodges. Ask us for a detailed Color Brochure with complete itinerary and tour application for this once in a lifetime adventure! If you love animals\, you will love this. Shots Not Required. $9464/pp/dbl. occ.
URL:https://royalcoachtours.com/occasion/august-5-17-2026-south-africa-safari-adventure/
CATEGORIES:OVERNIGHT TOURS
END:VEVENT
BEGIN:VEVENT
DTSTART;VALUE=DATE:20260820
DTEND;VALUE=DATE:20260821
DTSTAMP:20260423T123232
CREATED:20251020T063145Z
LAST-MODIFIED:20251020T063145Z
UID:1413-1787184000-1787270399@royalcoachtours.com
SUMMARY:AUG. 20TH THU. ★ “SATURDAY NIGHT FEVER” #1 - ALHAMBRA & Lunch
DESCRIPTION:AUG. 20TH THU. ★ “SATURDAY NIGHT FEVER” #1 – ALHAMBRA & Lunch – $113 \nIn this beloved ’70s throwback\, Tony Manero\, a nineteen-year-old Brooklynite paint store clerk\, spends his weekends at a local disco\, where he moonlights as the king of the dance floor. When he and dancer Stephanie\, enter a dance  competition\, the pair’s professional partnership blossoms into a deep friendship\, and challenges both to reflect on what’s important in life. Featuring the timeless hits of the Bee Gees and classic disco tracks\, “Stayin’ Alive\,” “Night Fever\,” “How Deep Is Your Love\,” and “You Should Be Dancing\,” “Tragedy” and “If I Can’t Have You.” Saturday Night Fever transports you back to the era of disco balls\, platform boots\, and white suits
URL:https://royalcoachtours.com/occasion/aug-20th-thu-%e2%98%85-saturday-night-fever-1-alhambra-lunch/
CATEGORIES:DAY TRIPS
END:VEVENT
BEGIN:VEVENT
DTSTART;VALUE=DATE:20260904
DTEND;VALUE=DATE:20260912
DTSTAMP:20260423T123232
CREATED:20251021T020353Z
LAST-MODIFIED:20251021T042211Z
UID:1454-1788480000-1789171199@royalcoachtours.com
SUMMARY:SEPTEMBER 4-11\, 2026 ”ENCHANTING EASTERN CANADA IN AUTUMN”
DESCRIPTION:SAVE $50/pp IF BOOKED BY 10/31/25 – THIS 8-DAY ESCORTED TOUR features 2-nts in Quebec City and visit the sacred St. Anne de Beaupre Shrine\, the beautiful Montmorency Falls and Basilica Cathedral Notre-Dame de Quebec\, a UNESCO World Heritage Site. Dinner at a real Sugar Shack and a Copper Art Studio. Spend 3-nts in Montreal with a guided tour visiting Old Montreal\, Sherbrooke’s Basilica Cathedral Saint Michel\, Montreal’s Notre-Dame Basilica where Celine Dion was married\, and Tour the Benedictine monastic Abbey de Saint-Benoit-du-Lac. Ride the Gondola at MontTremblant the ski resort of the rich and famous. Then 2-nts in Canada’s capital city\, Ottawa with city tour and cruise on the Ottawa River. $4499/pp Dlb. Occ. A $200 Deposit to reserve.
URL:https://royalcoachtours.com/occasion/september-4-11-2026-enchanting-eastern-canada-in-autumn/
CATEGORIES:OVERNIGHT TOURS
END:VEVENT
BEGIN:VEVENT
DTSTART;VALUE=DATE:20260910
DTEND;VALUE=DATE:20260919
DTSTAMP:20260423T123232
CREATED:20251021T020609Z
LAST-MODIFIED:20251021T042320Z
UID:1456-1788998400-1789775999@royalcoachtours.com
SUMMARY:SEPTEMBER 10-18\, 2026 ”COLORADO’S HISTORIC TRAINS”
DESCRIPTION:SAVE $100/pp IF BOOKED BY 8/31/25 – THIS 9-DAY ESCORTED TOUR features SIX SCENIC RAIL EXCURSIONS AND THREE NATIONAL PARKS. Experience Six Scenic trails following historic routes of the Old West on the Leadville Colorado & Southern Railroad\, the Durango & Silverton Narrow Gauge Railroad\, The Cumbres & Toltec Scenic Railorad\, The royal Gorge Route Railroad\, The Cripple Creek & Victor Narrow Gaukge Rilorad and The Pikes Peak Cog Railway. Then visit three beautiful National Parks: Rocky Mountain National Park\, Messa Verde National Park and its amazing cliff dwellings\, The Black Canyon of the Gunnison National Park and drive through Garden of the Gods Park. We have done this tour three times before and it’s always a thrill and a big seller\, so don’t wait. With Airfare to Denver and back\, Limo from your door to Orlando and back\, with 14 Meals\, all airport to hotel transfers and all hotels. Ask us for a Brochure. $4429/pp/dbl. occ.
URL:https://royalcoachtours.com/occasion/september-10-18-2026-colorados-historic-trains/
CATEGORIES:OVERNIGHT TOURS
END:VEVENT
BEGIN:VEVENT
DTSTART;VALUE=DATE:20260912
DTEND;VALUE=DATE:20260913
DTSTAMP:20260423T123232
CREATED:20251020T063504Z
LAST-MODIFIED:20251020T063504Z
UID:1416-1789171200-1789257599@royalcoachtours.com
SUMMARY:SEP. 12TH SAT. ★ “SATURDAY NIGHT FEVER” #2 - ALHAMBRA & Lunch
DESCRIPTION:SEP. 12TH SAT. ★ “SATURDAY NIGHT FEVER” #2 – ALHAMBRA & Lunch – $125 \nIn this beloved ’70s throwback\, Tony Manero\, a nineteen-year-old Brooklynite paint store clerk\, spends his weekends at a local disco\, where he moonlights as the king of the dance floor. When he and dancer Stephanie\, enter a dance competition\, the pair’s professional partnership blossoms into a deep friendship\, and challenges both to reflect on what’s important in life. Featuring the timeless hits of the Bee Gees and classic disco tracks\, “Stayin’ Alive\,” “Night Fever\,” “How Deep Is Your Love\,” and “You Should Be Dancing\,” “Tragedy” and “If I Can’t Have You.” Saturday Night Fever transports you back to the era of disco balls\, platform boots\, and white suits
URL:https://royalcoachtours.com/occasion/sep-12th-sat-%e2%98%85-saturday-night-fever-2-alhambra-lunch/
CATEGORIES:DAY TRIPS
END:VEVENT
BEGIN:VEVENT
DTSTART;VALUE=DATE:20260920
DTEND;VALUE=DATE:20260928
DTSTAMP:20260423T123232
CREATED:20251021T020751Z
LAST-MODIFIED:20251021T020751Z
UID:1459-1789862400-1790553599@royalcoachtours.com
SUMMARY:SEPTEMBER 20-27\, 2026 ”CANADIAN ROCKIES BY RAIL”
DESCRIPTION:SAVE $150/pp IF BOOKED BY 8/31/25 – THIS 8-DAY ESCORTED TOUR begins in Calgary and goes to Vancouver. Step back into Canada’s past at Heritage Park with its fur-traders\, blacksmith and collection of vintage automobiles; Spend two nights in the town of Banff inside Banff National Park\, Canada’s first national park and a UNESCO World Heritage site; Marvel at the Robin’s egg blue water of Lake Louise with the beautiful glacier as a backdrop. Spend two full days on board the Rocky Mountaineer train in Silver Leaf class as you pass the most breathtaking scenery in North America and met by the Royal Canadian Mounted Policy in striking red uniforms upon arrival in Vancouver.\nEnjoy a city tour of Vancouver and thee famed Stanley Park and a real treat as you embark on a scenic sightseeing cruise through Canada’s “Gateway to the Pacific” – the Burrard Inlet. Marcya has done this tour 3 times in the past and it is her all-time personal favorite and she will be escorting our group on this tour. Includes Limo from your door to Orlando Airport. Truly a Trip of a Lifetime! PRICE: 8169/PP LESS $150 OFF if signed up by 8/1/25 with a $400/pp Deposit.
URL:https://royalcoachtours.com/occasion/september-20-27-2026-canadian-rockies-by-rail/
CATEGORIES:OVERNIGHT TOURS
END:VEVENT
BEGIN:VEVENT
DTSTART;VALUE=DATE:20261001
DTEND;VALUE=DATE:20261002
DTSTAMP:20260423T123232
CREATED:20251020T063727Z
LAST-MODIFIED:20251021T041328Z
UID:1419-1790812800-1790899199@royalcoachtours.com
SUMMARY:OCT. 1ST THU. ★  “MEET ME IN ST. LOUIS” #1 - ALHAMBRA & Lunch
DESCRIPTION:OCT. 1ST THU. ★  “MEET ME IN ST. LOUIS” #1 – ALHAMBRA & Lunch – $113 \nBased on the heartwarming MGM film starring Judy Garland\, Meet Me in St. Louis is a rare treasure in the musical theatre; a wholesome and delightful portrait of a turnof-the-century American family. It is the summer of 1903\, and the Smith family eagerly anticipates the opening of the 1904 World’s Fair. Over the course of a year\, the family’s mutual respect\, tempered with good-natured humor\, helps them through romance\, opportunity\, and heartbreaks. The musical includes seven of the best-loved songs from the film\, plus ten additional Martin and Blane songs written specially for the stage. Memorable musical numbers include Have Yourself a Merry Little Christmas\, The Boy Next Door\, The Trolley Song\, and Whenever I’m with You.
URL:https://royalcoachtours.com/occasion/oct-1st-thu-%e2%98%85-meet-me-in-st-louis-1-alhambra-lunch/
CATEGORIES:DAY TRIPS
END:VEVENT
BEGIN:VEVENT
DTSTART;VALUE=DATE:20261107
DTEND;VALUE=DATE:20261108
DTSTAMP:20260423T123232
CREATED:20251020T063952Z
LAST-MODIFIED:20251021T041334Z
UID:1422-1794009600-1794095999@royalcoachtours.com
SUMMARY:NOV. 7TH SAT. ★ “MEET ME IN ST. LOUIS” #2 - ALHAMBRA & Lunch
DESCRIPTION:NOV. 7TH SAT. ★ “MEET ME IN ST. LOUIS” #2 – ALHAMBRA & Lunch – $125 \nBased on the heartwarming MGM film starring Judy Garland\, Meet Me in St. Louis is a rare treasure in the musical theatre; a wholesome and delightful portrait of a turnof-the-century American family. It is the summer of 1903\, and the Smith family eagerly anticipates the opening of the 1904 World’s Fair. Over the course of a year\, the family’s mutual respect\, tempered with good-natured humor\, helps them through romance\, opportunity\, and heartbreaks. The musical includes seven of the best-loved songs from the film\, plus ten additional Martin and Blane songs written specially for the stage. Memorable musical numbers include Have Yourself a Merry Little Christmas\, The Boy Next Door\, The Trolley Song\, and Whenever I’m with You
URL:https://royalcoachtours.com/occasion/nov-7th-sat-%e2%98%85-meet-me-in-st-louis-2-alhambra-lunch/
CATEGORIES:DAY TRIPS
END:VEVENT
BEGIN:VEVENT
DTSTART;VALUE=DATE:20261128
DTEND;VALUE=DATE:20261204
DTSTAMP:20260423T123232
CREATED:20251021T020927Z
LAST-MODIFIED:20251021T042327Z
UID:1461-1795824000-1796342399@royalcoachtours.com
SUMMARY:NOV. 28 TO DEC. 3\, 2026 ”CHRISTMAS IN VERMONT”
DESCRIPTION:SAVE $50/pp IF BOOKED BY 8/31/25 – THIS 5-DAY ESCORTED TOUR features TWO NIGHTS AT THE TRAPP FAMILY LODGE made famous by The Sound of Music movie. Enjoy the holiday season with stops at the Vermont Teddy Bear Factory\, the famed Vermont Country Store\, the summer estate of Robert Todd Lincoln\, sample cider at Cold Hollow Cider Mill\, a stop at Ben & Jerry’s Ice Cream Factory and free time in the charming village of Stowe. Spend two glorious nights at the lovely Austrianinspired Trapp Family Lodge\, owned and operated by the von Trapp family since 1942 with a Special Christmas Dinner and attend the von Trapp Family History Tour and meet a family member. Take an exciting sleigh ride through the rolling countryside and maybe covered with snow! With Airfare to Burlington and back\, Limo from your door to Orlando and back\, with 10 Meals\, airport to hotel transfers and all hotels. Ask us for a Brochure. $3729/pp/dbl. occ.
URL:https://royalcoachtours.com/occasion/nov-28-to-dec-3-2026-christmas-in-vermont/
CATEGORIES:OVERNIGHT TOURS
END:VEVENT
BEGIN:VEVENT
DTSTART;VALUE=DATE:20261205
DTEND;VALUE=DATE:20261206
DTSTAMP:20260423T123232
CREATED:20251020T064515Z
LAST-MODIFIED:20251020T064515Z
UID:1425-1796428800-1796515199@royalcoachtours.com
SUMMARY:DEC. 5th SAT. ★ “CHRISTMAS CAROLE” - ALHAMBRA & Lunch
DESCRIPTION:DEC. 5th SAT. ★ “CHRISTMAS CAROLE” – ALHAMBRA & Lunch – $140 \nEbeneezer Scrooge and his ghostly encounters come to life in this lavish and thrilling Broadway adaptation. Based on Charles Dickens’ classic\, this Alhambra favorite follows Ebenezer Scrooge on his extraordinary journey. With beloved characters like Marley\, Fred\, and Tiny Tim\, this timeless musical brings literature to life and delights audiences of all ages. A Christmas Classic sure to put you in the Holiday Spirit! Should you cancel a Day Trip for any reason a full refund in the form of a Future Tour Credit will be given only if we are without penalty from the vendor & we are able to resell the seat from our waiting list. Tickets for Day Trips are transferable to someone else. No refunds for No Shows or Missed Bus. Cancellations are always subject to each tour vendor policies and vary per tour. Cancellations beyond our control due to acts of Nature\, Weather or a Pandemic are non-refundable but will be rescheduled for a later date. Cancellations by Royal Coach Tours & Cruises prior to tour departure\, due to a lack of guest bookings\, will be refunded in full by agency check.
URL:https://royalcoachtours.com/occasion/dec-5th-sat-%e2%98%85-christmas-carole-alhambra-lunch/
CATEGORIES:DAY TRIPS
END:VEVENT
BEGIN:VEVENT
DTSTART;VALUE=DATE:20261229
DTEND;VALUE=DATE:20270103
DTSTAMP:20260423T123232
CREATED:20251021T021132Z
LAST-MODIFIED:20251021T021132Z
UID:1463-1798502400-1798934399@royalcoachtours.com
SUMMARY:DEC. 29\, 2026 TO JAN. 2\, 2027 ”TOURNAMENT OF ROSES PARADE”
DESCRIPTION:SAVE $50/pp IF BOOKED BY 8/31/25 – THIS 5-DAY ESCORTED TOUR features Reserved Seats for the Parade and the building where the floats are built\, One Hotel Stay in Long Beach and touring the cities of Pasadena\, Los Angeles\, Hollywood\, The Ronald Reagan Presidential Library and showcases his Air Force One\, his Limo and Helicopter\, The J. Paul Getty Museum of Art and a Private New Year’s Eve Dinner and dancing with live orchestra and champagne toast to ring in the New Year! Optional Post-tour excursion to beautiful San Diego. With AIRFARE TO LOS ANGELES AND BACK\, LIMO SAVE $100 PER PERSON WHEN PAID IN FULL BY OCT. 30TH FROM YOUR DOOR TO THE ORLANDO AIRPORT with 6 Meals\, all airport to hotel transfers and all hotels. Ask us for a detailed Color Brochure with complete itinerary and tour application.\n$3359/pp/dbl. occ.
URL:https://royalcoachtours.com/occasion/dec-29-2026-to-jan-2-2027-tournament-of-roses-parade/
CATEGORIES:OVERNIGHT TOURS
END:VEVENT
END:VCALENDAR